Workbook

Sheet Front Page
A1: Office for National Statistics: Front page
B3: 2025
B4: • Notice is given under section 1 of the Statistics of Trade Act 1947.
B5: • If you do not complete and return this questionnaire, penalties may be incurred (under section 4 of the Statistics of Trade Act 1947).
B6: • All the information you provide is kept strictly confidential. It is illegal for us to reveal your data or identify your business to unauthorised persons.
B8: Purpose of this Survey
B9: The purpose of this survey is to collect figures on International Trade in Services (ITIS) .
B10: The information supplied forms part of the UK's Balance of Payments which measures economic transactions between UK residents and the rest of the world. The data are used in the calculation of the Gross Domestic Product, a key economic indicator which shows the total economic activity taking place in the country. The statistics are also used to monitor the external commercial performance of different economies, assisting trade negotiations in the context of the General Agreement on Trade in Services.
B12: Please read the 'General Instructions' tab before answering any questions, as they contain useful information on how best to complete this questionnaire.

Sheet General Instructions
B1: General Instructions
B3: • Report all figures on an annual basis.
B4: • Complete this questionnaire on an accruals accounting, rather than a cash accounting, basis.
B5: • Report figures in thousands e.g. £56,250 = 56.
B6: • Data should relate to sites in England, Scotland, Wales and Northern Ireland, but excludes the Channel Islands and the Isle of Man.
B7: • If exact figures are not available, please provide informed estimates.
B9: Information you need
B10: To complete the survey, you will need to know the following information: - details about the business' international trade in services - countries that the business has international trade in services with - the percentage of services received and provided remotely from/to non-uk businesses and individuals
B12: Technical advice on completing the survey
B13: This version of the spreadsheet is for 2025. Please ensure you are using the correct version for this period.
B14: Do not alter the format of this spreadsheet.
B15: This spreadsheet is designed to be used in Excel 2016.
... B29: Annual.International.Trade.In.Services@ons.gov.uk

Sheet Questionnaire part 1
A1: 058-0013
E2: Annual Survey of International Trade in Services
E4: Contact details
E5: Who should we call if we have any questions?
A6: t,m,4,na,na,na | B6: 1010 | E6: Company* | F6: Viamed Ltd
A7: t,m,4,na,na,na | B7: 1011 | E7: Contact* | F7: Helen Lamb
A8: t,m,4,na,na,na | B8: 1012 | E8: Tel. No* | F8: 01535634542
A9: t,m,4,na,na,na | B9: 1013 | E9: E- Mail* | F9: helen.lamb@viamed.co.uk
F11: Complete this questionnaire on an accruals accounting, rather than a cash accounting, basis
F12: Report figures in thousands. For example, £56,250 should be reported as 56, while £100,725 should be reported as 101.
F13: Report for the period 1 January 2025 to 31 December 2025
F15: Part 1 - International trade in services (ITIS)
F16: This section ask you for details about your international trade in services with non-UK businesses, including the value of income and expenditure for each service type. Please use the comments section at the end of the questionnaire to explain any movements in your figures or changes in the countries or service codes reported since your last survey return. If this is your first return, please confirm if this is the usual amount of international trade your business conducts. Providing as much detail and context as possible reduces the need for ONS to contact you and helps to tell an industry story.
A18: t,m,5,na,na,na | B18: 0101 | E18: 1* | F18: During the reporting period (1 January 2025 to 31 December 2025) did your business conduct any international trade in services of more than £1,000? What we mean by "international trade in services": - International trade in services refers to your business providing services to, or receiving services from, non-UK businesses or individuals located outside the UK. - The term 'services' covers a range of intangible products and activities, such as advertising; legal; construction; financial; and telecommunications. This includes services that aren't related to the nature of your business. - For transactions between affiliated enterprises please report the market price (arm's length value) of the services provided/received where possible, rather than the transfer price. - For income, include the amounts received by your business for services provided to non-UK businesses/individuals. - For expenditure, include the amounts paid by your business for services provided by non-UK businesses/individuals. Include: - Services provided to, or received from, non-UK businesses/individuals including branches or subsidiaries of businesses within your group. - Services provided to, or received from, branches or subsidiaries of UK businesses located outside the UK. - Commissions paid to, or received from, non-UK businesses/individuals. - For construction services, include international trade for both goods and services. - For merchanting, include purchases of goods from non-UK businesses/individuals with the subsequent resale of those goods to other non-UK businesses/individuals, where the form of the goods does not change, and without the goods entering the UK. Exclude: - Goods, except for construction (Service codes 27 and 28) and merchanting (Service code 41). See above. - Value Added Tax (VAT). - Services provided to, or received from, businesses located within the UK (including branches or subsidiaries of non-UK businesses). - Interest, dividends, business travel and subsistence, and any international investment made by your business. - Any travel or transport services provided to or received from a non-UK business. - Wages and salaries your business pays, any expenses incurred within the UK, and any grants received. - Profits paid to, or received from, non-UK branches or subsidiaries of your businesses and joint ventures, where no service has been provided. - Services provided between non-UK branches or subsidiaries of your business and any other business/individual. For example, services provided between a French branch/subsidiary of your business and any other business/individual. | G18: No
E20: Stop!
E21: If you selected "No" for question 1, complete the Comments section (row 141) then upload to ONS Survey Data Collection (SDC) system. You do NOT need to complete the rest of the questionnaire.
A22: t,m,5,na,na,na | B22: 0102
E25: 2. | F25: During the reporting period, for each international service that your business traded write: i) the total income value, in thousands ii) the total expenditure value, in thousands
E26: Below are 52 different service activities. This questionnaire should be completed according to the services your business trades, and not according to the nature of your business. For example, if your business is a recruitment agency and you pay for legal services and public relation services from non-UK businesses, then you should enter expenditure figures relating to those service activities in the relevant service codes - 11 (legal services) and 09 (public relations services). The figures you report in service code 10 (recruitment services) should relate to income from, or expenditure for, recruitment services specifically.
E27: Service Code | F27: Service Activity | G27: Income Report in thousands | H27: Expenditure Report in thousands
G28: e.g. £56,250 = 56 | H28: e.g. £100,725 = 101
F29: Agricultural and Mining Services
A30: n,o,5-6,na,na,na | B30: 1001 | C30: 1002 | E30: 01 | F30: Agricultural, forestry and fishing services Services provided to, or received from, non-UK businesses/individuals. Examples of services included are: • Planting, treatment of crops, pest control for agriculture and harvesting. • Provision of agricultural machinery with crew. • Animal boarding, animal care, animal breeding and veterinary services. • Hunting, trapping and fishery. • Forestry and logging. Exclude: • Pest control services for buildings and vehicles (include in service code 15). • Commissions on the sale of animals (include in service code 42). • Training of sport and entertainment animals (include in service code 46).
A31: n,o,5-6,na,na,na | B31: 1003 | C31: 1004 | E31: 02 | F31: Mining services, and oil and gas extraction services Services provided to, or received from, non-UK businesses/individuals. Examples of services included are: • Mining services provided at oil and gas fields, including test drilling and derrick building, repair and dismantling services. • Oil and gas well casing, cementing, pumping and plugging. • Mineral, geological and related prospecting, exploration, evaluation and consulting services. • Geological mapping or surveying. • Mining and petroleum engineering.
A32: n,o,5-6,na,na,na | F32: Waste Treatment, Processing and Maintenance services
A33: n,o,5-6,na,na,na | B33: 2001 | C33: 2002 | E33: 03 | F33: Waste treatment and depollution services Services provided to, or received from, non-UK businesses/individuals. Examples of services included are: • Collection, treatment and disposal of waste and sewerage. • Stripping of contaminated soil and cleaning up pollution, including oil spills. • Restoration of mining sites. • Decontamination and sanitation services. • Other environmental cleaning and restoring services.
A34: n,o,5-6,na,na,na | E34: 04 | F34: Processing services on goods owned by others Services provided to, or received from, non-UK businesses/individuals. Examples of services included are: • Processing, assembly, labelling and packing of goods by businesses that do not own the goods. • Oil refining. • Liquefaction of natural gas. • Assembly of clothing and electronics by businesses that do not own the goods.. Exclude: • Where possible, the cost of any materials purchased for use in processing. • Maintenance, repair and refurbishment services (include in service code 05). • Assembly of pre-fabricated construction (include in service code 27/28).
B35: 2003 | F35: Income for providing processing services in the UK, on goods owned by non-UK businesses/individuals.
C36: 2004 | F36: Expenditure to non-UK businesses/individuals for processing services outside the UK, on goods owned by your business.
A37: n,o,5-6,na,na,na | E37: 05 | F37: Maintenance, repair and refurbishment services Services provided to, or received from, non-UK businesses/individuals. Only include refurbishments or repairs that are undertaken by businesses that do not own the items and are performed at the site of the repairer or elsewhere. Examples of items repaired or refurbished included are: • All types of machinery including industrial equipment, manufacturing equipment, telecommunications equipment, electronics and medical equipment. • Ships, aircraft and other transport machinery and equipment. • Furniture and other items. Exclude: • The value of parts and materials used during the maintenance, repair and refurbishment, if they are invoiced separately from the service fee. • Computer repairs and maintenance (include in service code 23). • Maintenance, repair and renovations of fixed assets such as buildings, land improvements of an engineering nature and other constructions such as roads, bridges and dams (include in service codes 27/28). • Cleaning of transport equipment.
B38: 2005 | F38: Income for providing maintenance, repair and refurbishment services on items owned by non-UK businesses/individuals.
C39: 2006 | F39: Expenditure to non-UK businesses/individuals for maintenance, repair and refurbishment services, on items owned by your business.
F40: Business and Professional Services | G40: Income Report in thousands | H40: Expenditure Report in thousands
G41: e.g. £56,250 = 56 | H41: e.g. £100,725 = 101
A42: n,o,5-6,na,na,na | B42: 3001 | C42: 3002 | E42: 06 | F42: Accountancy, auditing, bookkeeping and tax consulting services Services provided to, or received from, non-UK businesses/individuals. Examples of services included are: • Recording of commercial transactions for businesses and individuals. • Examination services for accounting records and reviewing financial statements. • Business tax planning and preparation consultancy. • Preparation of tax returns and payroll processes.
A43: n,o,5-6,na,na,na | B43: 3003 | C43: 3004 | E43: 07 | F43: Advertising, marketing and public opinion polling services Services provided to, or received from, non-UK businesses/individuals. Examples of services included are: • Design, creation and marketing of digital and physical advertisements. • Media placement, including the sale and purchase of advertising space and time. • Organisation and management of trade shows/fairs and provision of assistance and support services for exhibitions. • Market research, telemarketing and public opinion polling.
A44: n,o,5-6,na,na,na | B44: 3005 | C44: 3006 | E44: 08 | F44: Business management and management consulting services Services provided to, or received from, non-UK businesses/individuals. Examples of services included are: • Advice, guidance and operational assistance provided for business policy, strategy, planning, structuring and control of an organisation. • Management auditing and improvements to systems and processes. • Strategic marketing management, human resources and product development management. • Non-financial management services including project management services. • Supply chain management, inventory management, production scheduling, order processing, logistics and customer relations management. Exclude: • IT consulting and support services (include in service code 23). • Financial and investment advisory services (include in service code 29). • Scientific and technical consulting services (include in service code 50).
A45: n,o,5-6,na,na,na | B45: 3007 | C45: 3008 | E45: 09 | F45: Public relations services Services provided to, or received from, non-UK businesses/individuals. Include advice, guidance and operational assistance related to improving the image and relations of a business or individual with the general public and other institutions.
A46: n,o,5-6,na,na,na | B46: 3009 | C46: 3010 | E46: 10 | F46: Recruitment services Services provided to, or received from, non-UK businesses/individuals. Examples of services included are: • Intermediation services between prospective employees and employers. • Provision of executive searches, screening checks and interview services. • Provision of labour on all types of contract. Exclude: • Salaries paid to employees/crew.
A47: n,o,5-6,na,na,na | B47: 3011 | C47: 3012 | E47: 11 | F47: Legal services Services provided to, or received from, non-UK businesses/individuals. Examples of services included are: • Legal advisory and representation services in any legal, judicial and statutory procedures. • Drafting and certification services for legal documentation and instruments. • Escrow and settlement services for property and employment issues.
...

Sheet Data Sheet
M11: Box Number Totals from questionnaire
M12: =VLOOKUP(N12,'Questionnaire part 1'!$B$6:$F$9,4,FALSE()) -> Company* | N12: 1010 | O12: =VLOOKUP(N12,'Questionnaire part 1'!B6:F9,5,FALSE()) -> Viamed Ltd
M13: =VLOOKUP(N13,'Questionnaire part 1'!$B$6:$F$9,4,FALSE()) -> Contact* | N13: 1011 | O13: =VLOOKUP(N13,'Questionnaire part 1'!B7:F10,5,FALSE()) -> Helen Lamb
M14: =VLOOKUP(N14,'Questionnaire part 1'!$B$6:$F$9,4,FALSE()) -> Tel. No* | N14: 1012 | O14: =VLOOKUP(N14,'Questionnaire part 1'!B8:F11,5,FALSE()) -> 01535634542
M15: =VLOOKUP(N15,'Questionnaire part 1'!$B$6:$F$9,4,FALSE()) -> E- Mail* | N15: 1013 | O15: =VLOOKUP(N15,'Questionnaire part 1'!B9:F12,5,FALSE()) -> helen.lamb@viamed.co.uk
M16: Service Code | N16: Box number | O16: Income from Exports Report to the nearest £1,000 | P16: Expenditure on Imports Report to the nearest £1,000 | R16: CORA Instance | S16: Inc/Exp | T16: P/R | U16: Service Code | V16: Country Code | W16: Amount | Y16: Service Code | Z16: Inc Sub Totals
M17: =VLOOKUP($N17,#REF!,4,FALSE()) -> #VALUE! | N17: 0005 | O17: =IFERROR(VLOOKUP($N17,#REF!,6,FALSE()),"") | P17: =IFERROR(VLOOKUP($N17,#REF!,6,FALSE()),"") | R17: 1 | S17: =#REF! -> #REF! | T17: =IF(S17=0,"",IF(S17="I","R",IF(S17="E","P"))) -> #REF! | U17: =#REF! -> #REF! | V17: =IFERROR(VLOOKUP(#REF!,'Country & Service Codes'!$B$4:$C$269,2,FALSE()),"") | W17: =#REF! -> #REF! | Y17: 01 | Z17: =SUMIFS($W$17:$W$635,$T$17:$T$635,"R",$U$17:$U$635,$Y17) -> 0
M18: 01 | N18: 0006 | O18: =IFERROR(VLOOKUP($N18,#REF!,6,FALSE()),"") | P18: =IFERROR(VLOOKUP($N18,#REF!,6,FALSE()),"") | R18: 2 | S18: =#REF! -> #REF! | T18: =IF(S18=0,"",IF(S18="I","R",IF(S18="E","P"))) -> #REF! | U18: =#REF! -> #REF! | V18: =IFERROR(VLOOKUP(#REF!,'Country & Service Codes'!$B$4:$C$269,2,FALSE()),"") | W18: =#REF! -> #REF! | Y18: 02 | Z18: =SUMIFS($W$17:$W$635,$T$17:$T$635,"R",$U$17:$U$635,$Y18) -> 0
M19: =VLOOKUP($N19,#REF!,4,FALSE()) -> #VALUE! | N19: 0007 | O19: =IFERROR(VLOOKUP($N19,#REF!,6,FALSE()),"") | P19: =IFERROR(VLOOKUP($N19,#REF!,6,FALSE()),"") | R19: 3 | S19: =#REF! -> #REF! | T19: =IF(S19=0,"",IF(S19="I","R",IF(S19="E","P"))) -> #REF! | U19: =#REF! -> #REF! | V19: =IFERROR(VLOOKUP(#REF!,'Country & Service Codes'!$B$4:$C$269,2,FALSE()),"") | W19: =#REF! -> #REF! | Y19: 03 | Z19: =SUMIFS($W$17:$W$635,$T$17:$T$635,"R",$U$17:$U$635,$Y19) -> 0
M20: 02 | N20: 0008 | O20: =IFERROR(VLOOKUP($N20,#REF!,6,FALSE()),"") | P20: =IFERROR(VLOOKUP($N20,#REF!,6,FALSE()),"") | R20: 4 | S20: =#REF! -> #REF! | T20: =IF(S20=0,"",IF(S20="I","R",IF(S20="E","P"))) -> #REF! | U20: =#REF! -> #REF! | V20: =IFERROR(VLOOKUP(#REF!,'Country & Service Codes'!$B$4:$C$269,2,FALSE()),"") | W20: =#REF! -> #REF! | Y20: 04 | Z20: =SUMIFS($W$17:$W$635,$T$17:$T$635,"R",$U$17:$U$635,$Y20) -> 0
M21: =VLOOKUP($N21,#REF!,4,FALSE()) -> #VALUE! | N21: 0009 | O21: =IFERROR(VLOOKUP($N21,#REF!,6,FALSE()),"") | P21: =IFERROR(VLOOKUP($N21,#REF!,6,FALSE()),"") | R21: 5 | S21: =#REF! -> #REF! | T21: =IF(S21=0,"",IF(S21="I","R",IF(S21="E","P"))) -> #REF! | U21: =#REF! -> #REF! | V21: =IFERROR(VLOOKUP(#REF!,'Country & Service Codes'!$B$4:$C$269,2,FALSE()),"") | W21: =#REF! -> #REF! | Y21: 05 | Z21: =SUMIFS($W$17:$W$635,$T$17:$T$635,"R",$U$17:$U$635,$Y21) -> 0
M22: 03 | N22: 0010 | O22: =IFERROR(VLOOKUP($N22,#REF!,6,FALSE()),"") | P22: =IFERROR(VLOOKUP($N22,#REF!,6,FALSE()),"") | R22: 6 | S22: =#REF! -> #REF! | T22: =IF(S22=0,"",IF(S22="I","R",IF(S22="E","P"))) -> #REF! | U22: =#REF! -> #REF! | V22: =IFERROR(VLOOKUP(#REF!,'Country & Service Codes'!$B$4:$C$269,2,FALSE()),"") | W22: =#REF! -> #REF! | Y22: 06 | Z22: =SUMIFS($W$17:$W$635,$T$17:$T$635,"R",$U$17:$U$635,$Y22) -> 0
M23: =VLOOKUP($N23,#REF!,4,FALSE()) -> #VALUE! | N23: 0011 | O23: =IFERROR(VLOOKUP($N23,#REF!,6,FALSE()),"") | P23: =IFERROR(VLOOKUP($N23,#REF!,6,FALSE()),"") | R23: 7 | S23: =#REF! -> #REF! | T23: =IF(S23=0,"",IF(S23="I","R",IF(S23="E","P"))) -> #REF! | U23: =#REF! -> #REF! | V23: =IFERROR(VLOOKUP(#REF!,'Country & Service Codes'!$B$4:$C$269,2,FALSE()),"") | W23: =#REF! -> #REF! | Y23: 07 | Z23: =SUMIFS($W$17:$W$635,$T$17:$T$635,"R",$U$17:$U$635,$Y23) -> 0
M24: 04 | N24: 0012 | O24: =IFERROR(VLOOKUP($N24,#REF!,6,FALSE()),"") | P24: =IFERROR(VLOOKUP($N24,#REF!,6,FALSE()),"") | R24: 8 | S24: =#REF! -> #REF! | T24: =IF(S24=0,"",IF(S24="I","R",IF(S24="E","P"))) -> #REF! | U24: =#REF! -> #REF! | V24: =IFERROR(VLOOKUP(#REF!,'Country & Service Codes'!$B$4:$C$269,2,FALSE()),"") | W24: =#REF! -> #REF! | Y24: 08 | Z24: =SUMIFS($W$17:$W$635,$T$17:$T$635,"R",$U$17:$U$635,$Y24) -> 0
M25: =VLOOKUP($N25,#REF!,4,FALSE()) -> #VALUE! | N25: 0013 | O25: =IFERROR(VLOOKUP($N25,#REF!,6,FALSE()),"") | P25: =IFERROR(VLOOKUP($N25,#REF!,6,FALSE()),"") | R25: 9 | S25: =#REF! -> #REF! | T25: =IF(S25=0,"",IF(S25="I","R",IF(S25="E","P"))) -> #REF! | U25: =#REF! -> #REF! | V25: =IFERROR(VLOOKUP(#REF!,'Country & Service Codes'!$B$4:$C$269,2,FALSE()),"") | W25: =#REF! -> #REF! | Y25: 09 | Z25: =SUMIFS($W$17:$W$635,$T$17:$T$635,"R",$U$17:$U$635,$Y25) -> 0
M26: 05 | N26: 0014 | O26: =IFERROR(VLOOKUP($N26,#REF!,6,FALSE()),"") | P26: =IFERROR(VLOOKUP($N26,#REF!,6,FALSE()),"") | R26: 10 | S26: =#REF! -> #REF! | T26: =IF(S26=0,"",IF(S26="I","R",IF(S26="E","P"))) -> #REF! | U26: =#REF! -> #REF! | V26: =IFERROR(VLOOKUP(#REF!,'Country & Service Codes'!$B$4:$C$269,2,FALSE()),"") | W26: =#REF! -> #REF! | Y26: 10 | Z26: =SUMIFS($W$17:$W$635,$T$17:$T$635,"R",$U$17:$U$635,$Y26) -> 0
M27: =VLOOKUP($N27,#REF!,4,FALSE()) -> #VALUE! | N27: 0015 | O27: =IFERROR(VLOOKUP($N27,#REF!,6,FALSE()),"") | P27: =IFERROR(VLOOKUP($N27,#REF!,6,FALSE()),"") | R27: 11 | S27: =#REF! -> #REF! | T27: =IF(S27=0,"",IF(S27="I","R",IF(S27="E","P"))) -> #REF! | U27: =#REF! -> #REF! | V27: =IFERROR(VLOOKUP(#REF!,'Country & Service Codes'!$B$4:$C$269,2,FALSE()),"") | W27: =#REF! -> #REF! | Y27: 11 | Z27: =SUMIFS($W$17:$W$635,$T$17:$T$635,"R",$U$17:$U$635,$Y27) -> 0
M28: 06 | N28: 0016 | O28: =IFERROR(VLOOKUP($N28,#REF!,6,FALSE()),"") | P28: =IFERROR(VLOOKUP($N28,#REF!,6,FALSE()),"") | R28: 12 | S28: =#REF! -> #REF! | T28: =IF(S28=0,"",IF(S28="I","R",IF(S28="E","P"))) -> #REF! | U28: =#REF! -> #REF! | V28: =IFERROR(VLOOKUP(#REF!,'Country & Service Codes'!$B$4:$C$269,2,FALSE()),"") | W28: =#REF! -> #REF! | Y28: 12 | Z28: =SUMIFS($W$17:$W$635,$T$17:$T$635,"R",$U$17:$U$635,$Y28) -> 0
M29: =VLOOKUP($N29,#REF!,4,FALSE()) -> #VALUE! | N29: 0017 | O29: =IFERROR(VLOOKUP($N29,#REF!,6,FALSE()),"") | P29: =IFERROR(VLOOKUP($N29,#REF!,6,FALSE()),"") | R29: 13 | S29: =#REF! -> #REF! | T29: =IF(S29=0,"",IF(S29="I","R",IF(S29="E","P"))) -> #REF! | U29: =#REF! -> #REF! | V29: =IFERROR(VLOOKUP(#REF!,'Country & Service Codes'!$B$4:$C$269,2,FALSE()),"") | W29: =#REF! -> #REF! | Y29: 13 | Z29: =SUMIFS($W$17:$W$635,$T$17:$T$635,"R",$U$17:$U$635,$Y29) -> 0
M30: 07 | N30: 0018 | O30: =IFERROR(VLOOKUP($N30,#REF!,6,FALSE()),"") | P30: =IFERROR(VLOOKUP($N30,#REF!,6,FALSE()),"") | R30: 14 | S30: =#REF! -> #REF! | T30: =IF(S30=0,"",IF(S30="I","R",IF(S30="E","P"))) -> #REF! | U30: =#REF! -> #REF! | V30: =IFERROR(VLOOKUP(#REF!,'Country & Service Codes'!$B$4:$C$269,2,FALSE()),"") | W30: =#REF! -> #REF! | Y30: 14 | Z30: =SUMIFS($W$17:$W$635,$T$17:$T$635,"R",$U$17:$U$635,$Y30) -> 0
M31: =VLOOKUP($N31,#REF!,4,FALSE()) -> #VALUE! | N31: 0019 | O31: =IFERROR(VLOOKUP($N31,#REF!,6,FALSE()),"") | P31: =IFERROR(VLOOKUP($N31,#REF!,6,FALSE()),"") | R31: 15 | S31: =#REF! -> #REF! | T31: =IF(S31=0,"",IF(S31="I","R",IF(S31="E","P"))) -> #REF! | U31: =#REF! -> #REF! | V31: =IFERROR(VLOOKUP(#REF!,'Country & Service Codes'!$B$4:$C$269,2,FALSE()),"") | W31: =#REF! -> #REF! | Y31: 15 | Z31: =SUMIFS($W$17:$W$635,$T$17:$T$635,"R",$U$17:$U$635,$Y31) -> 0
M32: 08 | N32: 0020 | O32: =IFERROR(VLOOKUP($N32,#REF!,6,FALSE()),"") | P32: =IFERROR(VLOOKUP($N32,#REF!,6,FALSE()),"") | R32: 16 | S32: =#REF! -> #REF! | T32: =IF(S32=0,"",IF(S32="I","R",IF(S32="E","P"))) -> #REF! | U32: =#REF! -> #REF! | V32: =IFERROR(VLOOKUP(#REF!,'Country & Service Codes'!$B$4:$C$269,2,FALSE()),"") | W32: =#REF! -> #REF! | Y32: 16 | Z32: =SUMIFS($W$17:$W$635,$T$17:$T$635,"R",$U$17:$U$635,$Y32) -> 0
M33: =VLOOKUP($N33,#REF!,4,FALSE()) -> #VALUE! | N33: 0021 | O33: =IFERROR(VLOOKUP($N33,#REF!,6,FALSE()),"") | P33: =IFERROR(VLOOKUP($N33,#REF!,6,FALSE()),"") | R33: 17 | S33: =#REF! -> #REF! | T33: =IF(S33=0,"",IF(S33="I","R",IF(S33="E","P"))) -> #REF! | U33: =#REF! -> #REF! | V33: =IFERROR(VLOOKUP(#REF!,'Country & Service Codes'!$B$4:$C$269,2,FALSE()),"") | W33: =#REF! -> #REF! | Y33: 17 | Z33: =SUMIFS($W$17:$W$635,$T$17:$T$635,"R",$U$17:$U$635,$Y33) -> 0
M34: 09 | N34: 0022 | O34: =IFERROR(VLOOKUP($N34,#REF!,6,FALSE()),"") | P34: =IFERROR(VLOOKUP($N34,#REF!,6,FALSE()),"") | R34: 18 | S34: =#REF! -> #REF! | T34: =IF(S34=0,"",IF(S34="I","R",IF(S34="E","P"))) -> #REF! | U34: =#REF! -> #REF! | V34: =IFERROR(VLOOKUP(#REF!,'Country & Service Codes'!$B$4:$C$269,2,FALSE()),"") | W34: =#REF! -> #REF! | Y34: 18a | Z34: =SUMIFS($W$17:$W$635,$T$17:$T$635,"R",$U$17:$U$635,$Y34) -> 0
M35: =VLOOKUP($N35,#REF!,4,FALSE()) -> #VALUE! | N35: 0023 | O35: =IFERROR(VLOOKUP($N35,#REF!,6,FALSE()),"") | P35: =IFERROR(VLOOKUP($N35,#REF!,6,FALSE()),"") | R35: 19 | S35: =#REF! -> #REF! | T35: =IF(S35=0,"",IF(S35="I","R",IF(S35="E","P"))) -> #REF! | U35: =#REF! -> #REF! | V35: =IFERROR(VLOOKUP(#REF!,'Country & Service Codes'!$B$4:$C$269,2,FALSE()),"") | W35: =#REF! -> #REF! | Y35: 18b | Z35: =SUMIFS($W$17:$W$635,$T$17:$T$635,"R",$U$17:$U$635,$Y35) -> 0
M36: 10 | N36: 0024 | O36: =IFERROR(VLOOKUP($N36,#REF!,6,FALSE()),"") | P36: =IFERROR(VLOOKUP($N36,#REF!,6,FALSE()),"") | R36: 20 | S36: =#REF! -> #REF! | T36: =IF(S36=0,"",IF(S36="I","R",IF(S36="E","P"))) -> #REF! | U36: =#REF! -> #REF! | V36: =IFERROR(VLOOKUP(#REF!,'Country & Service Codes'!$B$4:$C$269,2,FALSE()),"") | W36: =#REF! -> #REF! | Y36: 19a | Z36: =SUMIFS($W$17:$W$635,$T$17:$T$635,"R",$U$17:$U$635,$Y36) -> 0
M37: =VLOOKUP($N37,#REF!,4,FALSE()) -> #VALUE! | N37: 0025 | O37: =IFERROR(VLOOKUP($N37,#REF!,6,FALSE()),"") | P37: =IFERROR(VLOOKUP($N37,#REF!,6,FALSE()),"") | R37: 21 | S37: =#REF! -> #REF! | T37: =IF(S37=0,"",IF(S37="I","R",IF(S37="E","P"))) -> #REF! | U37: =#REF! -> #REF! | V37: =IFERROR(VLOOKUP(#REF!,'Country & Service Codes'!$B$4:$C$269,2,FALSE()),"") | W37: =#REF! -> #REF! | Y37: 19b | Z37: =SUMIFS($W$17:$W$635,$T$17:$T$635,"R",$U$17:$U$635,$Y37) -> 0
M38: 11 | N38: 0026 | O38: =IFERROR(VLOOKUP($N38,#REF!,6,FALSE()),"") | P38: =IFERROR(VLOOKUP($N38,#REF!,6,FALSE()),"") | R38: 22 | S38: =#REF! -> #REF! | T38: =IF(S38=0,"",IF(S38="I","R",IF(S38="E","P"))) -> #REF! | U38: =#REF! -> #REF! | V38: =IFERROR(VLOOKUP(#REF!,'Country & Service Codes'!$B$4:$C$269,2,FALSE()),"") | W38: =#REF! -> #REF! | Y38: 20a | Z38: =SUMIFS($W$17:$W$635,$T$17:$T$635,"R",$U$17:$U$635,$Y38) -> 0
M39: =VLOOKUP($N39,#REF!,4,FALSE()) -> #VALUE! | N39: 0027 | O39: =IFERROR(VLOOKUP($N39,#REF!,6,FALSE()),"") | P39: =IFERROR(VLOOKUP($N39,#REF!,6,FALSE()),"") | R39: 23 | S39: =#REF! -> #REF! | T39: =IF(S39=0,"",IF(S39="I","R",IF(S39="E","P"))) -> #REF! | U39: =#REF! -> #REF! | V39: =IFERROR(VLOOKUP(#REF!,'Country & Service Codes'!$B$4:$C$269,2,FALSE()),"") | W39: =#REF! -> #REF! | Y39: 20b | Z39: =SUMIFS($W$17:$W$635,$T$17:$T$635,"R",$U$17:$U$635,$Y39) -> 0
M40: 12 | N40: 0028 | O40: =IFERROR(VLOOKUP($N40,#REF!,6,FALSE()),"") | P40: =IFERROR(VLOOKUP($N40,#REF!,6,FALSE()),"") | R40: 24 | S40: =#REF! -> #REF! | T40: =IF(S40=0,"",IF(S40="I","R",IF(S40="E","P"))) -> #REF! | U40: =#REF! -> #REF! | V40: =IFERROR(VLOOKUP(#REF!,'Country & Service Codes'!$B$4:$C$269,2,FALSE()),"") | W40: =#REF! -> #REF! | Y40: 21 | Z40: =SUMIFS($W$17:$W$635,$T$17:$T$635,"R",$U$17:$U$635,$Y40) -> 0
M41: =VLOOKUP($N41,#REF!,4,FALSE()) -> #VALUE! | N41: 0029 | O41: =IFERROR(VLOOKUP($N41,#REF!,6,FALSE()),"") | P41: =IFERROR(VLOOKUP($N41,#REF!,6,FALSE()),"") | R41: 25 | S41: =#REF! -> #REF! | T41: =IF(S41=0,"",IF(S41="I","R",IF(S41="E","P"))) -> #REF! | U41: =#REF! -> #REF! | V41: =IFERROR(VLOOKUP(#REF!,'Country & Service Codes'!$B$4:$C$269,2,FALSE()),"") | W41: =#REF! -> #REF! | Y41: 22 | Z41: =SUMIFS($W$17:$W$635,$T$17:$T$635,"R",$U$17:$U$635,$Y41) -> 0
M42: 13 | N42: 0030 | O42: =IFERROR(VLOOKUP($N42,#REF!,6,FALSE()),"") | P42: =IFERROR(VLOOKUP($N42,#REF!,6,FALSE()),"") | R42: 26 | S42: =#REF! -> #REF! | T42: =IF(S42=0,"",IF(S42="I","R",IF(S42="E","P"))) -> #REF! | U42: =#REF! -> #REF! | V42: =IFERROR(VLOOKUP(#REF!,'Country & Service Codes'!$B$4:$C$269,2,FALSE()),"") | W42: =#REF! -> #REF! | Y42: 23 | Z42: =SUMIFS($W$17:$W$635,$T$17:$T$635,"R",$U$17:$U$635,$Y42) -> 0
M43: =VLOOKUP($N43,#REF!,4,FALSE()) -> #VALUE! | N43: 0031 | O43: =IFERROR(VLOOKUP($N43,#REF!,6,FALSE()),"") | P43: =IFERROR(VLOOKUP($N43,#REF!,6,FALSE()),"") | R43: 27 | S43: =#REF! -> #REF! | T43: =IF(S43=0,"",IF(S43="I","R",IF(S43="E","P"))) -> #REF! | U43: =#REF! -> #REF! | V43: =IFERROR(VLOOKUP(#REF!,'Country & Service Codes'!$B$4:$C$269,2,FALSE()),"") | W43: =#REF! -> #REF! | Y43: 24 | Z43: =SUMIFS($W$17:$W$635,$T$17:$T$635,"R",$U$17:$U$635,$Y43) -> 0
M44: 14 | N44: 0032 | O44: =IFERROR(VLOOKUP($N44,#REF!,6,FALSE()),"") | P44: =IFERROR(VLOOKUP($N44,#REF!,6,FALSE()),"") | R44: 28 | S44: =#REF! -> #REF! | T44: =IF(S44=0,"",IF(S44="I","R",IF(S44="E","P"))) -> #REF! | U44: =#REF! -> #REF! | V44: =IFERROR(VLOOKUP(#REF!,'Country & Service Codes'!$B$4:$C$269,2,FALSE()),"") | W44: =#REF! -> #REF! | Y44: 25 | Z44: =SUMIFS($W$17:$W$635,$T$17:$T$635,"R",$U$17:$U$635,$Y44) -> 0
M45: =VLOOKUP($N45,#REF!,4,FALSE()) -> #VALUE! | N45: 0033 | O45: =IFERROR(VLOOKUP($N45,#REF!,6,FALSE()),"") | P45: =IFERROR(VLOOKUP($N45,#REF!,6,FALSE()),"") | R45: 29 | S45: =#REF! -> #REF! | T45: =IF(S45=0,"",IF(S45="I","R",IF(S45="E","P"))) -> #REF! | U45: =#REF! -> #REF! | V45: =IFERROR(VLOOKUP(#REF!,'Country & Service Codes'!$B$4:$C$269,2,FALSE()),"") | W45: =#REF! -> #REF! | Y45: 26 | Z45: =SUMIFS($W$17:$W$635,$T$17:$T$635,"R",$U$17:$U$635,$Y45) -> 0
M46: 15 | N46: 0034 | O46: =IFERROR(VLOOKUP($N46,#REF!,6,FALSE()),"") | P46: =IFERROR(VLOOKUP($N46,#REF!,6,FALSE()),"") | R46: 30 | S46: =#REF! -> #REF! | T46: =IF(S46=0,"",IF(S46="I","R",IF(S46="E","P"))) -> #REF! | U46: =#REF! -> #REF! | V46: =IFERROR(VLOOKUP(#REF!,'Country & Service Codes'!$B$4:$C$269,2,FALSE()),"") | W46: =#REF! -> #REF! | Y46: 27 | Z46: =SUMIFS($W$17:$W$635,$T$17:$T$635,"R",$U$17:$U$635,$Y46) -> 0
M47: 15 | N47: 0035 | O47: =IFERROR(VLOOKUP($N47,#REF!,6,FALSE()),"") | P47: =IFERROR(VLOOKUP($N47,#REF!,6,FALSE()),"") | R47: 31 | S47: =#REF! -> #REF! | T47: =IF(S47=0,"",IF(S47="I","R",IF(S47="E","P"))) -> #REF! | U47: =#REF! -> #REF! | V47: =IFERROR(VLOOKUP(#REF!,'Country & Service Codes'!$B$4:$C$269,2,FALSE()),"") | W47: =#REF! -> #REF! | Y47: 28 | Z47: =SUMIFS($W$17:$W$635,$T$17:$T$635,"R",$U$17:$U$635,$Y47) -> 0
M48: =VLOOKUP($N48,#REF!,4,FALSE()) -> #VALUE! | N48: 0036 | O48: =IFERROR(VLOOKUP($N48,#REF!,6,FALSE()),"") | P48: =IFERROR(VLOOKUP($N48,#REF!,6,FALSE()),"") | R48: 32 | S48: =#REF! -> #REF! | T48: =IF(S48=0,"",IF(S48="I","R",IF(S48="E","P"))) -> #REF! | U48: =#REF! -> #REF! | V48: =IFERROR(VLOOKUP(#REF!,'Country & Service Codes'!$B$4:$C$269,2,FALSE()),"") | W48: =#REF! -> #REF! | Y48: 29 | Z48: =SUMIFS($W$17:$W$635,$T$17:$T$635,"R",$U$17:$U$635,$Y48) -> 0
M49: 16 | N49: 0037 | O49: =IFERROR(VLOOKUP($N49,#REF!,6,FALSE()),"") | P49: =IFERROR(VLOOKUP($N49,#REF!,6,FALSE()),"") | R49: 33 | S49: =#REF! -> #REF! | T49: =IF(S49=0,"",IF(S49="I","R",IF(S49="E","P"))) -> #REF! | U49: =#REF! -> #REF! | V49: =IFERROR(VLOOKUP(#REF!,'Country & Service Codes'!$B$4:$C$269,2,FALSE()),"") | W49: =#REF! -> #REF! | Y49: 30 | Z49: =SUMIFS($W$17:$W$635,$T$17:$T$635,"R",$U$17:$U$635,$Y49) -> 0
M50: =VLOOKUP($N50,#REF!,4,FALSE()) -> #VALUE! | N50: 0038 | O50: =IFERROR(VLOOKUP($N50,#REF!,6,FALSE()),"") | P50: =IFERROR(VLOOKUP($N50,#REF!,6,FALSE()),"") | R50: 34 | S50: =#REF! -> #REF! | T50: =IF(S50=0,"",IF(S50="I","R",IF(S50="E","P"))) -> #REF! | U50: =#REF! -> #REF! | V50: =IFERROR(VLOOKUP(#REF!,'Country & Service Codes'!$B$4:$C$269,2,FALSE()),"") | W50: =#REF! -> #REF! | Y50: 31 | Z50: =SUMIFS($W$17:$W$635,$T$17:$T$635,"R",$U$17:$U$635,$Y50) -> 0
...

Sheet Questionnaire
A1: ='Questionnaire part 1'!A1 -> 058-0013 | B1: Returned value
A2: 0101 | B2: =IF(LEFT(UPPER('Questionnaire part 1'!G18),1)="Y","10",IF(LEFT(UPPER('Questionnaire part 1'!G18),1)="N","01","00")) -> 01
A3: 0102 | B3: =IF(LEFT(UPPER('Questionnaire part 1'!G22),1)="Y","10",IF(LEFT(UPPER('Questionnaire part 1'!G22),1)="N","01","00")) -> 00
A4: 3021 | B4: =IF(LEN('Questionnaire part 1'!F53)>0,"1","0") -> 0
A5: 1211 | B5: =IF(LEN('Questionnaire part 1'!F117)>0,"1","0") -> 0
A6: 1403 | B6: =IF(LEN('Questionnaire part 1'!F129)>0,"1","0") -> 0
A7: 1407 | B7: =IF(LEN('Questionnaire part 1'!F133)>0,"1","0") -> 0
A8: 0003 | B8: =IF(LEN('Questionnaire part 1'!F141)>0,"1","0") -> 1
A9: 0103 | B9: -1
A10: 1001 | B10: =IF(VLOOKUP(A10,Income,6,FALSE())="","",ROUND(VLOOKUP(A10,Income,6,FALSE()),0))
A11: 1003 | B11: =IF(VLOOKUP(A11,Income,6,FALSE())="","",ROUND(VLOOKUP(A11,Income,6,FALSE()),0))
A12: 2001 | B12: =IF(VLOOKUP(A12,Income,6,FALSE())="","",ROUND(VLOOKUP(A12,Income,6,FALSE()),0))
A13: 2003 | B13: =IF(VLOOKUP(A13,Income,6,FALSE())="","",ROUND(VLOOKUP(A13,Income,6,FALSE()),0))
A14: 2005 | B14: =IF(VLOOKUP(A14,Income,6,FALSE())="","",ROUND(VLOOKUP(A14,Income,6,FALSE()),0))
A15: 3001 | B15: =IF(VLOOKUP(A15,Income,6,FALSE())="","",ROUND(VLOOKUP(A15,Income,6,FALSE()),0))
A16: 3003 | B16: =IF(VLOOKUP(A16,Income,6,FALSE())="","",ROUND(VLOOKUP(A16,Income,6,FALSE()),0))
A17: 3005 | B17: =IF(VLOOKUP(A17,Income,6,FALSE())="","",ROUND(VLOOKUP(A17,Income,6,FALSE()),0))
A18: 3007 | B18: =IF(VLOOKUP(A18,Income,6,FALSE())="","",ROUND(VLOOKUP(A18,Income,6,FALSE()),0))
A19: 3009 | B19: =IF(VLOOKUP(A19,Income,6,FALSE())="","",ROUND(VLOOKUP(A19,Income,6,FALSE()),0))
A20: 3011 | B20: =IF(VLOOKUP(A20,Income,6,FALSE())="","",ROUND(VLOOKUP(A20,Income,6,FALSE()),0))
A21: 3013 | B21: =IF(VLOOKUP(A21,Income,6,FALSE())="","",ROUND(VLOOKUP(A21,Income,6,FALSE()),0))
... A49: 1105 | B49: =IF(VLOOKUP(A49,Income,6,FALSE())="","",ROUND(VLOOKUP(A49,Income,6,FALSE()),0))
A50: 1201 | B50: =IF(VLOOKUP(A50,Income,6,FALSE())="","",ROUND(VLOOKUP(A50,Income,6,FALSE()),0))
A51: 1203 | B51: =IF(VLOOKUP(A51,Income,6,FALSE())="","",ROUND(VLOOKUP(A51,Income,6,FALSE()),0))
A52: 1205 | B52: =IF(VLOOKUP(A52,Income,6,FALSE())="","",ROUND(VLOOKUP(A52,Income,6,FALSE()),0))
A53: 1207 | B53: =IF(VLOOKUP(A53,Income,6,FALSE())="","",ROUND(VLOOKUP(A53,Income,6,FALSE()),0))
A54: 1209 | B54: =IF(VLOOKUP(A54,Income,6,FALSE())="","",ROUND(VLOOKUP(A54,Income,6,FALSE()),0))
A55: 1301 | B55: =IF(VLOOKUP(A55,Income,6,FALSE())="","",ROUND(VLOOKUP(A55,Income,6,FALSE()),0))
A56: 1303 | B56: =IF(VLOOKUP(A56,Income,6,FALSE())="","",ROUND(VLOOKUP(A56,Income,6,FALSE()),0))
A57: 1305 | B57: =IF(VLOOKUP(A57,Income,6,FALSE())="","",ROUND(VLOOKUP(A57,Income,6,FALSE()),0))
A58: 1401 | B58: =IF(VLOOKUP(A58,Income,6,FALSE())="","",ROUND(VLOOKUP(A58,Income,6,FALSE()),0))
A59: 1405 | B59: =IF(VLOOKUP(A59,Income,6,FALSE())="","",ROUND(VLOOKUP(A59,Income,6,FALSE()),0))
A60: 1002 | B60: =IF(VLOOKUP(A60,Expenditure,6,FALSE())="","",ROUND(VLOOKUP(A60,Expenditure,6,FALSE()),0))
A61: 1004 | B61: =IF(VLOOKUP(A61,Expenditure,6,FALSE())="","",ROUND(VLOOKUP(A61,Expenditure,6,FALSE()),0))
A62: 2002 | B62: =IF(VLOOKUP(A62,Expenditure,6,FALSE())="","",ROUND(VLOOKUP(A62,Expenditure,6,FALSE()),0))
A63: 2004 | B63: =IF(VLOOKUP(A63,Expenditure,6,FALSE())="","",ROUND(VLOOKUP(A63,Expenditure,6,FALSE()),0))
A64: 2006 | B64: =IF(VLOOKUP(A64,Expenditure,6,FALSE())="","",ROUND(VLOOKUP(A64,Expenditure,6,FALSE()),0))
A65: 3002 | B65: =IF(VLOOKUP(A65,Expenditure,6,FALSE())="","",ROUND(VLOOKUP(A65,Expenditure,6,FALSE()),0))
A66: 3004 | B66: =IF(VLOOKUP(A66,Expenditure,6,FALSE())="","",ROUND(VLOOKUP(A66,Expenditure,6,FALSE()),0))
A67: 3006 | B67: =IF(VLOOKUP(A67,Expenditure,6,FALSE())="","",ROUND(VLOOKUP(A67,Expenditure,6,FALSE()),0))
...

Sheet Inquiries
B2: CORA Instance | C2: Service Code (202) | D2: Country Code (203) | E2: Amount(204) | F2: Amount(205) | H2: Service Code | I2: Inc Sub Totals
B3: 1 | C3: =IF('Questionnaire part 2'!E252="",":",'Questionnaire part 2'!E252) -> : | D3: =IF('Questionnaire part 2'!F252="",":",'Questionnaire part 2'!F252) -> ZAMBIA | E3: =IF('Questionnaire part 2'!G252="",":",'Questionnaire part 2'!G252) -> : | F3: =IF('Questionnaire part 2'!H252="",":",'Questionnaire part 2'!H252) -> : | H3: 01 | I3: =SUMIF($C$3:$C$621,H3,$E$3:$E$621) -> 0
B4: 2 | C4: =IF('questionnaire part 2'!#ref!="",":",'questionnaire part 2'!#ref!) -> #VALUE! | D4: =IF('questionnaire part 2'!#ref!="",":",'questionnaire part 2'!#ref!) -> #VALUE! | E4: =IF('questionnaire part 2'!#ref!="",":",'questionnaire part 2'!#ref!) -> #VALUE! | F4: =IF('questionnaire part 2'!#ref!="",":",'questionnaire part 2'!#ref!) -> #VALUE! | H4: 02 | I4: =SUMIF($C$3:$C$621,H4,$E$3:$E$621) -> 0
B5: 3 | C5: =IF('questionnaire part 2'!#ref!="",":",'questionnaire part 2'!#ref!) -> #VALUE! | D5: =IF('questionnaire part 2'!#ref!="",":",'questionnaire part 2'!#ref!) -> #VALUE! | E5: =IF('questionnaire part 2'!#ref!="",":",'questionnaire part 2'!#ref!) -> #VALUE! | F5: =IF('questionnaire part 2'!#ref!="",":",'questionnaire part 2'!#ref!) -> #VALUE! | H5: 03 | I5: =SUMIF($C$3:$C$621,H5,$E$3:$E$621) -> 0
B6: 4 | C6: =IF('questionnaire part 2'!#ref!="",":",'questionnaire part 2'!#ref!) -> #VALUE! | D6: =IF('questionnaire part 2'!#ref!="",":",'questionnaire part 2'!#ref!) -> #VALUE! | E6: =IF('questionnaire part 2'!#ref!="",":",'questionnaire part 2'!#ref!) -> #VALUE! | F6: =IF('questionnaire part 2'!#ref!="",":",'questionnaire part 2'!#ref!) -> #VALUE! | H6: 04 | I6: =SUMIF($C$3:$C$621,H6,$E$3:$E$621) -> 0
B7: 5 | C7: =IF('questionnaire part 2'!#ref!="",":",'questionnaire part 2'!#ref!) -> #VALUE! | D7: =IF('questionnaire part 2'!#ref!="",":",'questionnaire part 2'!#ref!) -> #VALUE! | E7: =IF('questionnaire part 2'!#ref!="",":",'questionnaire part 2'!#ref!) -> #VALUE! | F7: =IF('questionnaire part 2'!#ref!="",":",'questionnaire part 2'!#ref!) -> #VALUE! | H7: 05 | I7: =SUMIF($C$3:$C$621,H7,$E$3:$E$621) -> 0
B8: 6 | C8: =IF('questionnaire part 2'!#ref!="",":",'questionnaire part 2'!#ref!) -> #VALUE! | D8: =IF('questionnaire part 2'!#ref!="",":",'questionnaire part 2'!#ref!) -> #VALUE! | E8: =IF('questionnaire part 2'!#ref!="",":",'questionnaire part 2'!#ref!) -> #VALUE! | F8: =IF('questionnaire part 2'!#ref!="",":",'questionnaire part 2'!#ref!) -> #VALUE! | H8: 06 | I8: =SUMIF($C$3:$C$621,H8,$E$3:$E$621) -> 0
B9: 7 | C9: =IF('questionnaire part 2'!#ref!="",":",'questionnaire part 2'!#ref!) -> #VALUE! | D9: =IF('questionnaire part 2'!#ref!="",":",'questionnaire part 2'!#ref!) -> #VALUE! | E9: =IF('questionnaire part 2'!#ref!="",":",'questionnaire part 2'!#ref!) -> #VALUE! | F9: =IF('questionnaire part 2'!#ref!="",":",'questionnaire part 2'!#ref!) -> #VALUE! | H9: 07 | I9: =SUMIF($C$3:$C$621,H9,$E$3:$E$621) -> 0
B10: 8 | C10: =IF('questionnaire part 2'!#ref!="",":",'questionnaire part 2'!#ref!) -> #VALUE! | D10: =IF('questionnaire part 2'!#ref!="",":",'questionnaire part 2'!#ref!) -> #VALUE! | E10: =IF('questionnaire part 2'!#ref!="",":",'questionnaire part 2'!#ref!) -> #VALUE! | F10: =IF('questionnaire part 2'!#ref!="",":",'questionnaire part 2'!#ref!) -> #VALUE! | H10: 08 | I10: =SUMIF($C$3:$C$621,H10,$E$3:$E$621) -> 0
B11: 9 | C11: =IF('questionnaire part 2'!#ref!="",":",'questionnaire part 2'!#ref!) -> #VALUE! | D11: =IF('questionnaire part 2'!#ref!="",":",'questionnaire part 2'!#ref!) -> #VALUE! | E11: =IF('questionnaire part 2'!#ref!="",":",'questionnaire part 2'!#ref!) -> #VALUE! | F11: =IF('questionnaire part 2'!#ref!="",":",'questionnaire part 2'!#ref!) -> #VALUE! | H11: 09 | I11: =SUMIF($C$3:$C$621,H11,$E$3:$E$621) -> 0
B12: 10 | C12: =IF('questionnaire part 2'!#ref!="",":",'questionnaire part 2'!#ref!) -> #VALUE! | D12: =IF('questionnaire part 2'!#ref!="",":",'questionnaire part 2'!#ref!) -> #VALUE! | E12: =IF('questionnaire part 2'!#ref!="",":",'questionnaire part 2'!#ref!) -> #VALUE! | F12: =IF('questionnaire part 2'!#ref!="",":",'questionnaire part 2'!#ref!) -> #VALUE! | H12: 10 | I12: =SUMIF($C$3:$C$621,H12,$E$3:$E$621) -> 0
B13: 11 | C13: =IF('questionnaire part 2'!#ref!="",":",'questionnaire part 2'!#ref!) -> #VALUE! | D13: =IF('questionnaire part 2'!#ref!="",":",'questionnaire part 2'!#ref!) -> #VALUE! | E13: =IF('questionnaire part 2'!#ref!="",":",'questionnaire part 2'!#ref!) -> #VALUE! | F13: =IF('questionnaire part 2'!#ref!="",":",'questionnaire part 2'!#ref!) -> #VALUE! | H13: 11 | I13: =SUMIF($C$3:$C$621,H13,$E$3:$E$621) -> 0
B14: 12 | C14: =IF('questionnaire part 2'!#ref!="",":",'questionnaire part 2'!#ref!) -> #VALUE! | D14: =IF('questionnaire part 2'!#ref!="",":",'questionnaire part 2'!#ref!) -> #VALUE! | E14: =IF('questionnaire part 2'!#ref!="",":",'questionnaire part 2'!#ref!) -> #VALUE! | F14: =IF('questionnaire part 2'!#ref!="",":",'questionnaire part 2'!#ref!) -> #VALUE! | H14: 12 | I14: =SUMIF($C$3:$C$621,H14,$E$3:$E$621) -> 0
B15: 13 | C15: =IF('questionnaire part 2'!#ref!="",":",'questionnaire part 2'!#ref!) -> #VALUE! | D15: =IF('questionnaire part 2'!#ref!="",":",'questionnaire part 2'!#ref!) -> #VALUE! | E15: =IF('questionnaire part 2'!#ref!="",":",'questionnaire part 2'!#ref!) -> #VALUE! | F15: =IF('questionnaire part 2'!#ref!="",":",'questionnaire part 2'!#ref!) -> #VALUE! | H15: 13 | I15: =SUMIF($C$3:$C$621,H15,$E$3:$E$621) -> 0
... B57: 55 | C57: =IF('questionnaire part 2'!#ref!="",":",'questionnaire part 2'!#ref!) -> #VALUE! | D57: =IF('questionnaire part 2'!#ref!="",":",'questionnaire part 2'!#ref!) -> #VALUE! | E57: =IF('questionnaire part 2'!#ref!="",":",'questionnaire part 2'!#ref!) -> #VALUE! | F57: =IF('questionnaire part 2'!#ref!="",":",'questionnaire part 2'!#ref!) -> #VALUE! | H57: 52 | I57: =SUMIF($C$3:$C$621,H57,$E$3:$E$621) -> 0
B58: 56 | C58: =IF('questionnaire part 2'!#ref!="",":",'questionnaire part 2'!#ref!) -> #VALUE! | D58: =IF('questionnaire part 2'!#ref!="",":",'questionnaire part 2'!#ref!) -> #VALUE! | E58: =IF('questionnaire part 2'!#ref!="",":",'questionnaire part 2'!#ref!) -> #VALUE! | F58: =IF('questionnaire part 2'!#ref!="",":",'questionnaire part 2'!#ref!) -> #VALUE! | H58: Grand Total | I58: =SUM(I3:I57) -> 0
B59: 57 | C59: =IF('questionnaire part 2'!#ref!="",":",'questionnaire part 2'!#ref!) -> #VALUE! | D59: =IF('questionnaire part 2'!#ref!="",":",'questionnaire part 2'!#ref!) -> #VALUE! | E59: =IF('questionnaire part 2'!#ref!="",":",'questionnaire part 2'!#ref!) -> #VALUE! | F59: =IF('questionnaire part 2'!#ref!="",":",'questionnaire part 2'!#ref!) -> #VALUE! | H59: Service Code | I59: Exp Sub Totals
B60: 58 | C60: =IF('questionnaire part 2'!#ref!="",":",'questionnaire part 2'!#ref!) -> #VALUE! | D60: =IF('questionnaire part 2'!#ref!="",":",'questionnaire part 2'!#ref!) -> #VALUE! | E60: =IF('questionnaire part 2'!#ref!="",":",'questionnaire part 2'!#ref!) -> #VALUE! | F60: =IF('questionnaire part 2'!#ref!="",":",'questionnaire part 2'!#ref!) -> #VALUE! | H60: 01 | I60: =SUMIF($C$3:$C$621,H60,$F$3:$F$621) -> 0
B61: 59 | C61: =IF('questionnaire part 2'!#ref!="",":",'questionnaire part 2'!#ref!) -> #VALUE! | D61: =IF('questionnaire part 2'!#ref!="",":",'questionnaire part 2'!#ref!) -> #VALUE! | E61: =IF('questionnaire part 2'!#ref!="",":",'questionnaire part 2'!#ref!) -> #VALUE! | F61: =IF('questionnaire part 2'!#ref!="",":",'questionnaire part 2'!#ref!) -> #VALUE! | H61: 02 | I61: =SUMIF($C$3:$C$621,H61,$F$3:$F$621) -> 0
B62: 60 | C62: =IF('questionnaire part 2'!#ref!="",":",'questionnaire part 2'!#ref!) -> #VALUE! | D62: =IF('questionnaire part 2'!#ref!="",":",'questionnaire part 2'!#ref!) -> #VALUE! | E62: =IF('questionnaire part 2'!#ref!="",":",'questionnaire part 2'!#ref!) -> #VALUE! | F62: =IF('questionnaire part 2'!#ref!="",":",'questionnaire part 2'!#ref!) -> #VALUE! | H62: 03 | I62: =SUMIF($C$3:$C$621,H62,$F$3:$F$621) -> 0
B63: 61 | C63: =IF('questionnaire part 2'!#ref!="",":",'questionnaire part 2'!#ref!) -> #VALUE! | D63: =IF('questionnaire part 2'!#ref!="",":",'questionnaire part 2'!#ref!) -> #VALUE! | E63: =IF('questionnaire part 2'!#ref!="",":",'questionnaire part 2'!#ref!) -> #VALUE! | F63: =IF('questionnaire part 2'!#ref!="",":",'questionnaire part 2'!#ref!) -> #VALUE! | H63: 04 | I63: =SUMIF($C$3:$C$621,H63,$F$3:$F$621) -> 0
B64: 62 | C64: =IF('questionnaire part 2'!#ref!="",":",'questionnaire part 2'!#ref!) -> #VALUE! | D64: =IF('questionnaire part 2'!#ref!="",":",'questionnaire part 2'!#ref!) -> #VALUE! | E64: =IF('questionnaire part 2'!#ref!="",":",'questionnaire part 2'!#ref!) -> #VALUE! | F64: =IF('questionnaire part 2'!#ref!="",":",'questionnaire part 2'!#ref!) -> #VALUE! | H64: 05 | I64: =SUMIF($C$3:$C$621,H64,$F$3:$F$621) -> 0
B65: 63 | C65: =IF('questionnaire part 2'!#ref!="",":",'questionnaire part 2'!#ref!) -> #VALUE! | D65: =IF('questionnaire part 2'!#ref!="",":",'questionnaire part 2'!#ref!) -> #VALUE! | E65: =IF('questionnaire part 2'!#ref!="",":",'questionnaire part 2'!#ref!) -> #VALUE! | F65: =IF('questionnaire part 2'!#ref!="",":",'questionnaire part 2'!#ref!) -> #VALUE! | H65: 06 | I65: =SUMIF($C$3:$C$621,H65,$F$3:$F$621) -> 0
B66: 64 | C66: =IF('questionnaire part 2'!#ref!="",":",'questionnaire part 2'!#ref!) -> #VALUE! | D66: =IF('questionnaire part 2'!#ref!="",":",'questionnaire part 2'!#ref!) -> #VALUE! | E66: =IF('questionnaire part 2'!#ref!="",":",'questionnaire part 2'!#ref!) -> #VALUE! | F66: =IF('questionnaire part 2'!#ref!="",":",'questionnaire part 2'!#ref!) -> #VALUE! | H66: 07 | I66: =SUMIF($C$3:$C$621,H66,$F$3:$F$621) -> 0
B67: 65 | C67: =IF('questionnaire part 2'!#ref!="",":",'questionnaire part 2'!#ref!) -> #VALUE! | D67: =IF('questionnaire part 2'!#ref!="",":",'questionnaire part 2'!#ref!) -> #VALUE! | E67: =IF('questionnaire part 2'!#ref!="",":",'questionnaire part 2'!#ref!) -> #VALUE! | F67: =IF('questionnaire part 2'!#ref!="",":",'questionnaire part 2'!#ref!) -> #VALUE! | H67: 08 | I67: =SUMIF($C$3:$C$621,H67,$F$3:$F$621) -> 0
B68: 66 | C68: =IF('questionnaire part 2'!#ref!="",":",'questionnaire part 2'!#ref!) -> #VALUE! | D68: =IF('questionnaire part 2'!#ref!="",":",'questionnaire part 2'!#ref!) -> #VALUE! | E68: =IF('questionnaire part 2'!#ref!="",":",'questionnaire part 2'!#ref!) -> #VALUE! | F68: =IF('questionnaire part 2'!#ref!="",":",'questionnaire part 2'!#ref!) -> #VALUE! | H68: 09 | I68: =SUMIF($C$3:$C$621,H68,$F$3:$F$621) -> 0
B69: 67 | C69: =IF('questionnaire part 2'!#ref!="",":",'questionnaire part 2'!#ref!) -> #VALUE! | D69: =IF('questionnaire part 2'!#ref!="",":",'questionnaire part 2'!#ref!) -> #VALUE! | E69: =IF('questionnaire part 2'!#ref!="",":",'questionnaire part 2'!#ref!) -> #VALUE! | F69: =IF('questionnaire part 2'!#ref!="",":",'questionnaire part 2'!#ref!) -> #VALUE! | H69: 10 | I69: =SUMIF($C$3:$C$621,H69,$F$3:$F$621) -> 0
B70: 68 | C70: =IF('questionnaire part 2'!#ref!="",":",'questionnaire part 2'!#ref!) -> #VALUE! | D70: =IF('questionnaire part 2'!#ref!="",":",'questionnaire part 2'!#ref!) -> #VALUE! | E70: =IF('questionnaire part 2'!#ref!="",":",'questionnaire part 2'!#ref!) -> #VALUE! | F70: =IF('questionnaire part 2'!#ref!="",":",'questionnaire part 2'!#ref!) -> #VALUE! | H70: 11 | I70: =SUMIF($C$3:$C$621,H70,$F$3:$F$621) -> 0
B71: 69 | C71: =IF('questionnaire part 2'!#ref!="",":",'questionnaire part 2'!#ref!) -> #VALUE! | D71: =IF('questionnaire part 2'!#ref!="",":",'questionnaire part 2'!#ref!) -> #VALUE! | E71: =IF('questionnaire part 2'!#ref!="",":",'questionnaire part 2'!#ref!) -> #VALUE! | F71: =IF('questionnaire part 2'!#ref!="",":",'questionnaire part 2'!#ref!) -> #VALUE! | H71: 12 | I71: =SUMIF($C$3:$C$621,H71,$F$3:$F$621) -> 0
... B114: 112 | C114: =IF('questionnaire part 2'!#ref!="",":",'questionnaire part 2'!#ref!) -> #VALUE! | D114: =IF('questionnaire part 2'!#ref!="",":",'questionnaire part 2'!#ref!) -> #VALUE! | E114: =IF('questionnaire part 2'!#ref!="",":",'questionnaire part 2'!#ref!) -> #VALUE! | F114: =IF('questionnaire part 2'!#ref!="",":",'questionnaire part 2'!#ref!) -> #VALUE! | H114: 52 | I114: =SUMIF($C$3:$C$621,H114,$F$3:$F$621) -> 0
B115: 113 | C115: =IF('questionnaire part 2'!#ref!="",":",'questionnaire part 2'!#ref!) -> #VALUE! | D115: =IF('questionnaire part 2'!#ref!="",":",'questionnaire part 2'!#ref!) -> #VALUE! | E115: =IF('questionnaire part 2'!#ref!="",":",'questionnaire part 2'!#ref!) -> #VALUE! | F115: =IF('questionnaire part 2'!#ref!="",":",'questionnaire part 2'!#ref!) -> #VALUE! | H115: Grand Total | I115: =SUM(I60:I114) -> 0
B116: 114 | C116: =IF('questionnaire part 2'!#ref!="",":",'questionnaire part 2'!#ref!) -> #VALUE! | D116: =IF('questionnaire part 2'!#ref!="",":",'questionnaire part 2'!#ref!) -> #VALUE! | E116: =IF('questionnaire part 2'!#ref!="",":",'questionnaire part 2'!#ref!) -> #VALUE! | F116: =IF('questionnaire part 2'!#ref!="",":",'questionnaire part 2'!#ref!) -> #VALUE!
B117: 115 | C117: =IF('questionnaire part 2'!#ref!="",":",'questionnaire part 2'!#ref!) -> #VALUE! | D117: =IF('questionnaire part 2'!#ref!="",":",'questionnaire part 2'!#ref!) -> #VALUE! | E117: =IF('questionnaire part 2'!#ref!="",":",'questionnaire part 2'!#ref!) -> #VALUE! | F117: =IF('questionnaire part 2'!#ref!="",":",'questionnaire part 2'!#ref!) -> #VALUE!
B118: 116 | C118: =IF('questionnaire part 2'!#ref!="",":",'questionnaire part 2'!#ref!) -> #VALUE! | D118: =IF('questionnaire part 2'!#ref!="",":",'questionnaire part 2'!#ref!) -> #VALUE! | E118: =IF('questionnaire part 2'!#ref!="",":",'questionnaire part 2'!#ref!) -> #VALUE! | F118: =IF('questionnaire part 2'!#ref!="",":",'questionnaire part 2'!#ref!) -> #VALUE!
B119: 117 | C119: =IF('questionnaire part 2'!#ref!="",":",'questionnaire part 2'!#ref!) -> #VALUE! | D119: =IF('questionnaire part 2'!#ref!="",":",'questionnaire part 2'!#ref!) -> #VALUE! | E119: =IF('questionnaire part 2'!#ref!="",":",'questionnaire part 2'!#ref!) -> #VALUE! | F119: =IF('questionnaire part 2'!#ref!="",":",'questionnaire part 2'!#ref!) -> #VALUE!
B120: 118 | C120: =IF('questionnaire part 2'!#ref!="",":",'questionnaire part 2'!#ref!) -> #VALUE! | D120: =IF('questionnaire part 2'!#ref!="",":",'questionnaire part 2'!#ref!) -> #VALUE! | E120: =IF('questionnaire part 2'!#ref!="",":",'questionnaire part 2'!#ref!) -> #VALUE! | F120: =IF('questionnaire part 2'!#ref!="",":",'questionnaire part 2'!#ref!) -> #VALUE!
B121: 119 | C121: =IF('questionnaire part 2'!#ref!="",":",'questionnaire part 2'!#ref!) -> #VALUE! | D121: =IF('questionnaire part 2'!#ref!="",":",'questionnaire part 2'!#ref!) -> #VALUE! | E121: =IF('questionnaire part 2'!#ref!="",":",'questionnaire part 2'!#ref!) -> #VALUE! | F121: =IF('questionnaire part 2'!#ref!="",":",'questionnaire part 2'!#ref!) -> #VALUE!
B122: 120 | C122: =IF('questionnaire part 2'!#ref!="",":",'questionnaire part 2'!#ref!) -> #VALUE! | D122: =IF('questionnaire part 2'!#ref!="",":",'questionnaire part 2'!#ref!) -> #VALUE! | E122: =IF('questionnaire part 2'!#ref!="",":",'questionnaire part 2'!#ref!) -> #VALUE! | F122: =IF('questionnaire part 2'!#ref!="",":",'questionnaire part 2'!#ref!) -> #VALUE!
B123: 121 | C123: =IF('questionnaire part 2'!#ref!="",":",'questionnaire part 2'!#ref!) -> #VALUE! | D123: =IF('questionnaire part 2'!#ref!="",":",'questionnaire part 2'!#ref!) -> #VALUE! | E123: =IF('questionnaire part 2'!#ref!="",":",'questionnaire part 2'!#ref!) -> #VALUE! | F123: =IF('questionnaire part 2'!#ref!="",":",'questionnaire part 2'!#ref!) -> #VALUE!
B124: 122 | C124: =IF('questionnaire part 2'!#ref!="",":",'questionnaire part 2'!#ref!) -> #VALUE! | D124: =IF('questionnaire part 2'!#ref!="",":",'questionnaire part 2'!#ref!) -> #VALUE! | E124: =IF('questionnaire part 2'!#ref!="",":",'questionnaire part 2'!#ref!) -> #VALUE! | F124: =IF('questionnaire part 2'!#ref!="",":",'questionnaire part 2'!#ref!) -> #VALUE!
...

Sheet GeneralInfo
A1: Excel Input Files (returns) Folder | B1: CSV Output Files Folder | C1: Archive Folder | D1: XML Folder | E1: Processing Reports Folder
A2: C:\SEFT\New Submissions | B2: K:\ITIS\SEFT\CSV\ | C2: K:\ITIS\SEFT\CSV\ | D2: C:\SEFT\metadata archive | E2: C:\SEFT\reports | G2: File | H2: =CELL("filename") -> file:///C:/Users/helen/Downloads/[058_202512_0013.xlsx]GeneralInfo
A3: Euro rates: annual 2012 (B is opening C is closing) | B3: 1.2034 | C3: 1.2334 | G3: Survey code | H3: =MID(H2,SEARCH("[",H2)+22,3) -> Gen
A4: quarter 1 2013 (03) | B4: 1.2 | C4: 1.1797 | G4: Period | H4: =MID(H2,SEARCH("[",H2)+14,6) -> 13.xls
A5: quarter 2 2012 (06) | B5: 1.2339 | C5: 1.2339 | G5: Ref | H5: =MID(H2,SEARCH("[",H2)+1,11) -> 058_202512_
A6: quarter 3 2012 (09) | B6: 1.2629 | C6: 1.2629
A7: quarter 4 2012 (12) | B7: 1.2381 | C7: 1.2381
A10: C:\SEFT\New Submissions | B10: C:\SEFT\CSV | C10: C:\SEFT\response archive | D10: C:\SEFT\metadata archive | E10: C:\SEFT\reports
A15: X:\UAT Submissions | B15: X:\uatcsv | C15: X:\UAT test\response archive | D15: X:\UAT test\metadata archive | E15: X:\UAT test\reports
A17: Y:\UAT Submissions | B17: Y:\uatcsv | C17: Y:\UAT test\response archive | D17: Y:\UAT test\metadata archive | E17: Y:\UAT test\reports
A19: W:\UAT Submissions | B19: W:\uatcsv | C19: W:\UAT test\response archive | D19: W:\UAT test\metadata archive | E19: W:\UAT test\reports

Sheet Countries
A1: Options for the country and industry sector drop-down boxes
A2: Country code | B2: Country description | D2: country code | E2: immediate country description
A3: (for ONS use) | D3: (for ONS use)
A4: 625 | B4: ABU DHABI | D4: 625 | E4: ABU DHABI
A5: 609 | B5: AFGHANISTAN | D5: 609 | E5: AFGHANISTAN
A6: 514 | B6: ALBANIA | D6: 514 | E6: ALBANIA
A7: 118 | B7: ALGERIA | D7: 118 | E7: ALGERIA
A8: 641 | B8: AMERICAN SAMOA | D8: 641 | E8: AMERICAN SAMOA
A9: 522 | B9: ANDORRA | D9: 522 | E9: ANDORRA
A10: 002 | B10: ANGOLA | D10: 002 | E10: ANGOLA
A11: 821 | B11: ANGUILLA | D11: 821 | E11: ANGUILLA
A12: 644 | B12: ANTARCTICA | D12: 644 | E12: ANTARCTICA
A13: 104 | B13: ANTIGUA & BARBUDA | D13: 104 | E13: ANTIGUA & BARBUDA
A14: 003 | B14: ARGENTINA | D14: 003 | E14: ARGENTINA
A15: 503 | B15: ARMENIA | D15: 503 | E15: ARMENIA
A16: 817 | B16: ARUBA | D16: 817 | E16: ARUBA
A17: 004 | B17: AUSTRALIA | D17: 004 | E17: AUSTRALIA
A18: 612 | B18: AUSTRALIAN OCEANIA | D18: 612 | E18: AUSTRALIAN OCEANIA
A19: 005 | B19: AUSTRIA | D19: 005 | E19: AUSTRIA
A20: 504 | B20: AZERBAIJAN | D20: 504 | E20: AZERBAIJAN
A21: 084 | B21: BAHAMAS | D21: 084 | E21: BAHAMAS
A22: 600 | B22: BAHRAIN | D22: 600 | E22: BAHRAIN
A23: 095 | B23: BANGLADESH | D23: 095 | E23: BANGLADESH
A24: 105 | B24: BARBADOS | D24: 105 | E24: BARBADOS
A25: 500 | B25: BELARUS | D25: 500 | E25: BELARUS
A26: 006 | B26: BELGIUM | D26: 006 | E26: BELGIUM
A27: 810 | B27: BELIZE | D27: 810 | E27: BELIZE
A28: 716 | B28: BENIN | D28: 716 | E28: BENIN
A29: 085 | B29: BERMUDA | D29: 085 | E29: BERMUDA
A30: 607 | B30: BHUTAN | D30: 607 | E30: BHUTAN
A31: 122 | B31: BOLIVIA | D31: 122 | E31: BOLIVIA
A32: 822 | B32: BONAIRE, SINT EUSTATINS AND SABA | D32: 822 | E32: BONAIRE, SINT EUSTATINS AND SABA
A33: 517 | B33: BOSNIA-HERZEGOVINA | D33: 517 | E33: BOSNIA-HERZEGOVINA
A34: 101 | B34: BOTSWANA | D34: 101 | E34: BOTSWANA
A35: 645 | B35: BOUVET ISLAND | D35: 645 | E35: BOUVET ISLAND
A36: 007 | B36: BRAZIL | D36: 007 | E36: BRAZIL
A37: 604 | B37: BRITISH INDIAN OCEAN TERRITORY | D37: 604 | E37: BRITISH INDIAN OCEAN TERRITORY
A38: 813 | B38: BRITISH VIRGIN ISLANDS | D38: 813 | E38: BRITISH VIRGIN ISLANDS
A39: 108 | B39: BRUNEI DARUSSALAM | D39: 108 | E39: BRUNEI DARUSSALAM
A40: 127 | B40: BULGARIA | D40: 127 | E40: BULGARIA
...

Sheet Questionnaire part 2
A1: 057:0001 | D1: Total Value of ITIS £ '000s | E1: Total income from Part 1 | F1: Total expenditure from Part 1 | G1: Part 2 - Country breakdown Please check the total value of all your international trade in services, in cells E2 and F2. Cells H2 and I2 should match cells E2 and F2. If cells do not match, they will turn red until the values are corrected | H1: Total income from Breakdown by Country table | I1: Total expenditure from Breakdown by Country table
B2: 1501 | C2: 1502 | E2: =SUM('Questionnaire part 1'!G30,'Questionnaire part 1'!G31,'Questionnaire part 1'!G33,'Questionnaire part 1'!G35,'Questionnaire part 1'!G38,'Questionnaire part 1'!G42:G43,'Questionnaire part 1'!G44:G47,'Questionnaire part 1'!G48:G49,'Questionnaire part 1'!G50:G51,'Questionnaire part 1'!G57:G58,'Questionnaire part 1'!G62:G63,'Questionnaire part 1'!G65:G66,'Questionnaire part 1'!G68:G69,'Questionnaire part 1'!G72:G73,'Questionnaire part 1'!G74:G77,'Questionnaire part 1'!G83,'Questionnaire part 1'!G85,'Questionnaire part 1'!G89,'Questionnaire part 1'!G92,'Questionnaire part 1'!G94,'Questionnaire part 1'!G96,'Questionnaire part 1'!G98,'Questionnaire part 1'!G99,'Questionnaire part 1'!G101,'Questionnaire part 1'!G107:G108,'Questionnaire part 1'!G111,'Questionnaire part 1'!G112,'Questionnaire part 1'!G113:G115,'Questionnaire part 1'!G121:G122,'Questionnaire part 1'!G123,'Questionnaire part 1'!G127,'Questionnaire part 1'!G131) -> 0 | F2: =SUM('Questionnaire part 1'!H30:H31,'Questionnaire part 1'!H33,'Questionnaire part 1'!H36,'Questionnaire part 1'!H39,'Questionnaire part 1'!H42:H43,'Questionnaire part 1'!H44,'Questionnaire part 1'!H45:H47,'Questionnaire part 1'!H48:H49,'Questionnaire part 1'!H50:H51,'Questionnaire part 1'!H57,'Questionnaire part 1'!H58,'Questionnaire part 1'!H62:H63,'Questionnaire part 1'!H65:H66,'Questionnaire part 1'!H68:H69,'Questionnaire part 1'!H72:H73,'Questionnaire part 1'!H74:H77,'Questionnaire part 1'!H82,'Questionnaire part 1'!H86,'Questionnaire part 1'!H89,'Questionnaire part 1'!H93,'Questionnaire part 1'!H95,'Questionnaire part 1'!H97,'Questionnaire part 1'!H98,'Questionnaire part 1'!H100,'Questionnaire part 1'!H102,'Questionnaire part 1'!H106,'Questionnaire part 1'!H108,'Questionnaire part 1'!H111,'Questionnaire part 1'!H112,'Questionnaire part 1'!H113:H115,'Questionnaire part 1'!H121:H122,'Questionnaire part 1'!H123,'Questionnaire part 1'!H127,'Questionnaire part 1'!H131) -> 0 | H2: =H854 -> 0 | I2: =I854 -> 0
E3: Please supply a breakdown by service code and country, for income and expenditure that your business provided in part 1.
F5: 3. During the reporting period 1 January 2025 to 31 December 2025, for each service activity your business conducted enter the following information: i) the service code (reported in questionnaire part 1) ii) the names of the countries your business traded with iii) income value broken down by country iv) expenditure value broken down by country Columns H and I will automatically sum the income and expenditure from each country and display the totals in cells H2 and I2.
F6: Exclude tax both inside and outside the UK.
F7: Report data relating to the European Central Bank and EU Institutions separately to avoid duplication of figures
F8: Report figures in thousands. For example £56,250 should be reported as 56, or £100,725 should be written as 101.
E10: Breakdown by Country of International Trade in Services To help you complete this section, a list of service codes and country names are included in the "Country & Service Codes" tab.
E12: 0202 | F12: 0203 | H12: 0204 | I12: 0205
D13: Instance | E13: Service Code | F13: Country Names | H13: Income Report in thousands | I13: Expenditure Report in thousands
H14: e.g. £56,250 = 56 | I14: e.g. £100,725 = 101
F15: AFGHANISTAN
F16: ALBANIA
F17: ALGERIA
F18: AMERICAN SAMOA
F19: ANDORRA
F20: ANGOLA
F21: ANGUILLA
F22: ANTARCTICA
F23: ANTIGUA AND BARBUDA
F24: ARGENTINA
F25: ARMENIA
F26: ARUBA
... F251: YEMEN
F252: ZAMBIA | K252: =TEXT(E252,E252) | L252: =IF(ISBLANK(E252),"",IF(AND(ISNA(VLOOKUP(E252,'Country & Service Codes'!E:E,1,FALSE())),ISNA(VLOOKUP(K252,'Country & Service Codes'!E:E,1,FALSE()))),1,0)) | M252: =IF(ISBLANK(F252),"",IF(ISNA(VLOOKUP(UPPER(F252),'Country & Service Codes'!B:B,1,FALSE())),1,0)) -> 0 | N252: =IF(AND(OR(E252<>"",F252<>""),AND(ISBLANK(H252),ISBLANK(I252))),1,0) -> 1 | O252: =IF(AND(OR(H252<>"",I252<>""),OR(ISBLANK(E252),ISBLANK(F252))),1,0) -> 0
F253: ZIMBABWE | K253: =TEXT(E253,E253) | L253: =IF(ISBLANK(E253),"",IF(AND(ISNA(VLOOKUP(E253,'Country & Service Codes'!E:E,1,FALSE())),ISNA(VLOOKUP(K253,'Country & Service Codes'!E:E,1,FALSE()))),1,0)) | M253: =IF(ISBLANK(F253),"",IF(ISNA(VLOOKUP(UPPER(F253),'Country & Service Codes'!B:B,1,FALSE())),1,0)) -> 0 | N253: =IF(AND(OR(E253<>"",F253<>""),AND(ISBLANK(H253),ISBLANK(I253))),1,0) -> 1 | O253: =IF(AND(OR(H253<>"",I253<>""),OR(ISBLANK(E253),ISBLANK(F253))),1,0) -> 0
