Workbook
Name Corporate: #REF!
Name corporate1: #REF!
Name DMIC: #REF!
Name DSCC: #REF!
Name DWCC: #REF!
Name NWLP: #REF!

Sheet Price Update Template
A1: NWLPS Supplier Catalogue Template
A3: Supplier Name: | C3: Viamed Limited
A4: Trust: | C4: CW
A5: Trust Supplier Code: | C5: VIAME
A7: Do Not Update | C7: TRUST DATA - if UPDATES are required USE A COLOURED FONT | H7: Do Not Update | I7: UPDATE | J7: UPDATE | K7: UPDATE | L7: Do Not Update | M7: UPDATE | N7: UPDATE | O7: UPDATE & add new row with product info
A8: Trust References | C8: Product Information | H8: Pricing Information | L8: Agreement Information | N8: Additional Information
A9: Line Ref. | B9: Catalogue ID | C9: Supplier's Product Code | D9: Product Description | E9: 3 Digit eClass Code | F9: GS1 GTIN | G9: Unit and Quantity of Measure | H9: Current Trust Catalogue Price - Price per Unit (exc. VAT) | I9: Current Price - Price per Unit (exc. VAT) | J9: Pricing Start Date | K9: Pricing End Date | L9: Trust Internal Contract Reference Number | M9: Supplier Contract/Agreement Reference Number | N9: Item no longer available/discontinued | O9: Replacement Product Code (if applicable)
A10: 4 | B10: ='[1]Report 1'!A5 -> FJK6001B | C10: ='[1]Report 1'!AK5 -> 0021013 | D10: ='[1]Report 1'!B5 -> 0021013 - Posey Wraps | E10: ='[1]Report 1'!U5 -> FJK | F10: 10190676001856 | G10: ='[1]Report 1'!AM5 -> B12 | H10: ='[1]Report 1'!AL5 -> 13.25 | I10: 16.2 | J10: 31/07/2025* | K10: 31/01/2026* | M10: LISTPRICE20250731
A11: 3 | B11: ='[1]Report 1'!A4 -> FFH2002B | C11: ='[1]Report 1'!AK4 -> 0110047 | D11: ='[1]Report 1'!B4 -> 0110047 - Oxygen Sensors | E11: ='[1]Report 1'!U4 -> FFH | F11: 4036616011969 | G11: ='[1]Report 1'!AM4 -> EA | H11: ='[1]Report 1'!AL4 -> 71.25 | I11: 77 | J11: 31/07/2025* | K11: 31/01/2026* | M11: LISTPRICE20250731
A12: 6 | B12: ='[1]Report 1'!A7 -> IVE331956 | C12: ='[1]Report 1'!AK7 -> 1114005 | D12: ='[1]Report 1'!B7 -> 1114005 - Eyemax 2 Neonatal Phototherapy Mask Regular | E12: ='[1]Report 1'!U7 -> IVE | F12: 00853061006920 | G12: ='[1]Report 1'!AM7 -> P20 | H12: ='[1]Report 1'!AL7 -> 56.7 | I12: 56.7 | J12: 31/07/2025* | K12: 31/01/2026* | M12: LISTPRICE20250731
A13: 7 | B13: ='[1]Report 1'!A8 -> IVE331957 | C13: ='[1]Report 1'!AK8 -> 1114006 | D13: ='[1]Report 1'!B8 -> 1114006 - Eyemax 2 Neonatal Phototherapy Mask Preemie | E13: ='[1]Report 1'!U8 -> IVE | F13: 00817770021834 | G13: ='[1]Report 1'!AM8 -> P20 | H13: ='[1]Report 1'!AL8 -> 56.7 | I13: 56.7 | J13: 31/07/2025* | K13: 31/01/2026* | M13: LISTPRICE20250731
A14: 1 | B14: ='[1]Report 1'!A2 -> CJZ6000B | C14: ='[1]Report 1'!AK2 -> 3810000 | D14: ='[1]Report 1'!B2 -> 3810000 - Posey Id Removable Bracelets On Newborn | E14: ='[1]Report 1'!U2 -> FJK | F14: 10190676002266 | G14: ='[1]Report 1'!AM2 -> B12 | H14: ='[1]Report 1'!AL2 -> 16.2 | I14: 19.4 | J14: 31/07/2025* | K14: 31/01/2026* | M14: LISTPRICE20250731
A15: 5 | B15: ='[1]Report 1'!A6 -> FKJ5001B | C15: ='[1]Report 1'!AK6 -> 3810001 | D15: ='[1]Report 1'!B6 -> 3810001 - Posey I.D Bracelets | E15: ='[1]Report 1'!U6 -> FJK | F15: 20190676002270 | G15: ='[1]Report 1'!AM6 -> P12 | H15: ='[1]Report 1'!AL6 -> 16.85 | N15: DISCONTINUED
A16: 2 | B16: ='[1]Report 1'!A3 -> FDQ8000B | C16: ='[1]Report 1'!AK3 -> 4420901 | D16: ='[1]Report 1'!B3 -> 4420901 - Versastream Oridion Co2 Sampling Line | E16: ='[1]Report 1'!U3 -> 0 | F16: (01)24251679600835 | G16: ='[1]Report 1'!AM3 -> P25 | H16: ='[1]Report 1'!AL3 -> 180 | I16: 184.7 | J16: 31/07/2025* | K16: 31/01/2026* | M16: LISTPRICE20250731

Sheet Comparison
A1: NWLPS Supplier Catalogue Template
A3: Supplier Name: | C3: =+'Price Update Template'!C3 -> Viamed Limited
A4: Trust: | C4: =+'Price Update Template'!C4 -> CW
A5: Trust Supplier Code: | C5: =+'Price Update Template'!C5 -> VIAME
A7: Do Not Update | C7: TRUST DATA - if UPDATES are required USE A COLOURED FONT | H7: Do Not Update | I7: UPDATE | J7: UPDATE | K7: UPDATE | L7: Do Not Update | M7: UPDATE | N7: UPDATE | O7: UPDATE & add new row with product info
A8: Trust References | C8: Product Information | H8: Pricing Information | L8: Agreement Information | N8: Additional Information
A9: Line Ref. | B9: Catalogue ID | C9: Supplier's Product Code | D9: Product Description | E9: 3 Digit eClass Code | F9: GS1 GTIN | G9: Unit and Quantity of Measure | H9: Current Trust Catalogue Price - Price per Unit (exc. VAT) | I9: Current Price - Price per Unit (exc. VAT) | J9: Pricing Start Date | K9: Pricing End Date | L9: Trust Internal Contract Reference Number | M9: Supplier Contract/Agreement Reference Number | N9: Item no longer available/discontinued | O9: Replacement Product Code (if applicable) | P9: Supplier's Product Code | Q9: Product Description | R9: 3 Digit eClass Code | S9: GS1 GTIN | T9: Unit and Quantity of Measure | U9: Current Trust Catalogue Price - Price per Unit (exc. VAT) | V9: Current Price - Price per Unit (exc. VAT) | W9: Pricing Start Date | X9: Pricing End Date | Y9: Trust Internal Contract Reference Number | Z9: Supplier Contract/Agreement Reference Number
A10: 1 | B10: CJZ6000B | C10: 3810000 | D10: 3810000 - Posey Id Removable Bracelets On Newborn | E10: FJK | F10: 0 | G10: B12 | H10: 16.2 | P10: =IF(C10='Price Update Template'!C10,"Yes","No") -> No | Q10: =IF(D10='Price Update Template'!D10,"Yes","No") -> No | R10: =IF(E10='Price Update Template'!E10,"Yes","No") -> Yes | S10: =IF(F10='Price Update Template'!F10,"Yes","No") -> No | T10: =IF(G10='Price Update Template'!G10,"Yes","No") -> Yes | U10: =IF(H10='Price Update Template'!H10,"Yes","No") -> No | V10: =IF(I10='Price Update Template'!I10,"Yes","No") -> No | W10: =IF(J10='Price Update Template'!J10,"Yes","No") -> No | ... Z10: =IF(M10='Price Update Template'!M10,"Yes","No") -> No
A11: 2 | B11: FDQ8000B | C11: 4420901 | D11: 4420901 - Versastream Oridion Co2 Sampling Line | E11: 0 | F11: 0 | G11: P25 | H11: 180 | P11: =IF(C11='Price Update Template'!C11,"Yes","No") -> No | Q11: =IF(D11='Price Update Template'!D11,"Yes","No") -> No | R11: =IF(E11='Price Update Template'!E11,"Yes","No") -> No | S11: =IF(F11='Price Update Template'!F11,"Yes","No") -> No | T11: =IF(G11='Price Update Template'!G11,"Yes","No") -> No | U11: =IF(H11='Price Update Template'!H11,"Yes","No") -> No | V11: =IF(I11='Price Update Template'!I11,"Yes","No") -> No | W11: =IF(J11='Price Update Template'!J11,"Yes","No") -> No | ... Z11: =IF(M11='Price Update Template'!M11,"Yes","No") -> No
A12: 3 | B12: FFH2002B | C12: 0110047 | D12: 0110047 - Oxygen Sensors | E12: FFH | F12: 0 | G12: EA | H12: 71.25 | P12: =IF(C12='Price Update Template'!C12,"Yes","No") -> No | Q12: =IF(D12='Price Update Template'!D12,"Yes","No") -> No | R12: =IF(E12='Price Update Template'!E12,"Yes","No") -> No | S12: =IF(F12='Price Update Template'!F12,"Yes","No") -> No | T12: =IF(G12='Price Update Template'!G12,"Yes","No") -> No | U12: =IF(H12='Price Update Template'!H12,"Yes","No") -> No | V12: =IF(I12='Price Update Template'!I12,"Yes","No") -> No | W12: =IF(J12='Price Update Template'!J12,"Yes","No") -> No | ... Z12: =IF(M12='Price Update Template'!M12,"Yes","No") -> No
A13: 4 | B13: FJK6001B | C13: 0021013 | D13: 0021013 - Posey Wraps | E13: FJK | F13: 0 | G13: B12 | H13: 13.25 | P13: =IF(C13='Price Update Template'!C13,"Yes","No") -> No | Q13: =IF(D13='Price Update Template'!D13,"Yes","No") -> No | R13: =IF(E13='Price Update Template'!E13,"Yes","No") -> No | S13: =IF(F13='Price Update Template'!F13,"Yes","No") -> No | T13: =IF(G13='Price Update Template'!G13,"Yes","No") -> No | U13: =IF(H13='Price Update Template'!H13,"Yes","No") -> No | V13: =IF(I13='Price Update Template'!I13,"Yes","No") -> No | W13: =IF(J13='Price Update Template'!J13,"Yes","No") -> No | ... Z13: =IF(M13='Price Update Template'!M13,"Yes","No") -> No
A14: 5 | B14: FKJ5001B | C14: 3810001 | D14: 3810001 - Posey I.D Bracelets | E14: FJK | F14: 0 | G14: P12 | H14: 16.85 | P14: =IF(C14='Price Update Template'!C14,"Yes","No") -> No | Q14: =IF(D14='Price Update Template'!D14,"Yes","No") -> No | R14: =IF(E14='Price Update Template'!E14,"Yes","No") -> Yes | S14: =IF(F14='Price Update Template'!F14,"Yes","No") -> No | T14: =IF(G14='Price Update Template'!G14,"Yes","No") -> No | U14: =IF(H14='Price Update Template'!H14,"Yes","No") -> No | V14: =IF(I14='Price Update Template'!I14,"Yes","No") -> No | W14: =IF(J14='Price Update Template'!J14,"Yes","No") -> No | ... Z14: =IF(M14='Price Update Template'!M14,"Yes","No") -> No
A15: 6 | B15: IVE331956 | C15: 1114005 | D15: 1114005 - Eyemax 2 Neonatal Phototherapy Mask Regular | E15: IVE | F15: 0 | G15: P20 | H15: 56.7 | P15: =IF(C15='Price Update Template'!C15,"Yes","No") -> No | Q15: =IF(D15='Price Update Template'!D15,"Yes","No") -> No | R15: =IF(E15='Price Update Template'!E15,"Yes","No") -> No | S15: =IF(F15='Price Update Template'!F15,"Yes","No") -> No | T15: =IF(G15='Price Update Template'!G15,"Yes","No") -> No | U15: =IF(H15='Price Update Template'!H15,"Yes","No") -> No | V15: =IF(I15='Price Update Template'!N15,"Yes","No") -> No | W15: =IF(J15='Price Update Template'!J15,"Yes","No") -> Yes | X15: =IF(K15='Price Update Template'!K15,"Yes","No") -> Yes | Y15: =IF(L15='Price Update Template'!L15,"Yes","No") -> Yes | Z15: =IF(M15='Price Update Template'!M15,"Yes","No") -> Yes
A16: 7 | B16: IVE331957 | C16: 1114006 | D16: 1114006 - Eyemax 2 Neonatal Phototherapy Mask Preemie | E16: IVE | F16: 0 | G16: P20 | H16: 56.7 | P16: =IF(C16='Price Update Template'!C16,"Yes","No") -> No | Q16: =IF(D16='Price Update Template'!D16,"Yes","No") -> No | R16: =IF(E16='Price Update Template'!E16,"Yes","No") -> No | S16: =IF(F16='Price Update Template'!F16,"Yes","No") -> No | T16: =IF(G16='Price Update Template'!G16,"Yes","No") -> No | U16: =IF(H16='Price Update Template'!H16,"Yes","No") -> No | V16: =IF(I16='Price Update Template'!I16,"Yes","No") -> No | W16: =IF(J16='Price Update Template'!J16,"Yes","No") -> No | ... Z16: =IF(M16='Price Update Template'!M16,"Yes","No") -> No

Sheet Notes on Completing
A1: Test sheets
A2: The Price Update Template tab contains Trust electronic catalogue data Please review the accuracy of all data - if amendments are required, please overwrite using a coloured font Where cells state **Supplier to Confirm**, please provide your information by overtyping in that cell
A5: Trust References
A6: Line Ref. | B6: PLEASE IGNORE - THESE ARE INTERNAL TRUST REFERENCE CODES (PLEASE DO NOT OVERTYPE)
A7: Catalogue ID | B7: PLEASE IGNORE - THESE ARE INTERNAL TRUST REFERENCE CODES (PLEASE DO NOT OVERTYPE)
A8: Product Information
A9: Supplier's Product Code | B9: Enter the Supplier product code as needs to be referenced on Purchase Orders to your company
A10: Product Description | B10: Enter the full product description including any details on sizes, colours, etc
A11: 3 Digit eClass Code | B11: Please enter the 3 character alpha eClass Code e.g. FBU (if unknown, please leave blank)
A12: GS1 GTIN | B12: Please enter the GS1/GTIN code for the product
A13: Unit and Quantity of Measure | B13: Enter the Unit of Measure (i.e. Box; Each; Pack; Carton etc) and also the Quantity of Measure (i.e. 1 (for each); 5 (if the item is supplied in a box of 5); 10 (if the item is supplied in a pack of 10) etc)
A14: Pricing Information
A15: Current Trust Catalogue Price - Price per Unit (exc. VAT) | B15: **This is the price held in the Trust's catalogue system - please do not overtype this price**
A16: Current Price - Price per Unit (exc. VAT) | B16: Enter purchase price (ex VAT) as will be sold to the Trust
A17: Pricing Start Date | B17: Enter the date the price(s) are valid from
A18: Pricing End Date | B18: Enter the date the price(s) expire (if there is no expiry date, enter Ongoing)
A19: Agreement Information
A20: Trust Internal Contract Reference Number | B20: **Please disregard this column - these are internal contract references used by the Trust**
A21: Supplier Contract/Agreement Reference Number | B21: If items are supplied to the Trust under any contract, quote, and/or formal agreement, please reference the agreement number here; otherwise please enter 'LIST'
A22: Additional Information
A23: Item no longer available/discontinued | B23: If an existing catalogue item is no longer available or has been discontinued then please enter 'Yes' here - otherwise, leave blank
A24: Replacement Product Code (if applicable) | B24: If an item has been marked as no longer available/discontinued but has been replaced by another item, please enter the Supplier's product code here - the new item will then need to be added to the Pricing Template with all the necessary information required per the above
A45: 44687
